BEGIN:VCALENDAR
VERSION:2.0
PRODID:icalendar-ruby
CALSCALE:GREGORIAN
METHOD:PUBLISH
BEGIN:VEVENT
DTSTAMP:20260423T113722Z
UID:16-1732597@robbinsvilleumc.org
DTSTART:20260923T093000Z
DTEND:20260923T103000Z
CLASS:PUBLIC
CREATED:20260422T231047
DESCRIPTION:
LAST-MODIFIED:20260422T231047
LOCATION:Robbinsville United Methodist Church
SUMMARY:"Time Out"
URL;VALUE=URI:https://robbinsvilleumc.org/events/time-out/2026-09-23
END:VEVENT
END:VCALENDAR
