BEGIN:VCALENDAR
VERSION:2.0
PRODID:icalendar-ruby
CALSCALE:GREGORIAN
METHOD:PUBLISH
BEGIN:VEVENT
DTSTAMP:20260423T142129Z
UID:16-1733237@robbinsvilleumc.org
DTSTART:20261007T093000Z
DTEND:20261007T103000Z
CLASS:PUBLIC
CREATED:20260423T084105
DESCRIPTION:
LAST-MODIFIED:20260423T084105
LOCATION:Robbinsville United Methodist Church
SUMMARY:"Time Out"
URL;VALUE=URI:https://robbinsvilleumc.org/events/time-out/2026-10-07
END:VEVENT
END:VCALENDAR
