BEGIN:VCALENDAR
VERSION:2.0
PRODID:icalendar-ruby
CALSCALE:GREGORIAN
METHOD:PUBLISH
BEGIN:VEVENT
DTSTAMP:20260423T155528Z
UID:16-1733876@robbinsvilleumc.org
DTSTART:20261014T093000Z
DTEND:20261014T103000Z
CLASS:PUBLIC
CREATED:20260423T113326
DESCRIPTION:
LAST-MODIFIED:20260423T113326
LOCATION:Robbinsville United Methodist Church
SUMMARY:"Time Out"
URL;VALUE=URI:https://robbinsvilleumc.org/events/time-out/2026-10-14
END:VEVENT
END:VCALENDAR
