BEGIN:VCALENDAR
VERSION:2.0
PRODID:icalendar-ruby
CALSCALE:GREGORIAN
METHOD:PUBLISH
BEGIN:VEVENT
DTSTAMP:20260423T184931Z
UID:16-1734516@robbinsvilleumc.org
DTSTART:20261028T093000Z
DTEND:20261028T103000Z
CLASS:PUBLIC
CREATED:20260423T143023
DESCRIPTION:
LAST-MODIFIED:20260423T143023
LOCATION:Robbinsville United Methodist Church
SUMMARY:"Time Out"
URL;VALUE=URI:https://robbinsvilleumc.org/events/time-out/2026-10-28
END:VEVENT
END:VCALENDAR
